BEGIN:VCALENDAR
VERSION:2.0
PRODID:-//wp-events-plugin.com//7.2.3.1//EN
TZID:Europe/Berlin
X-WR-TIMEZONE:Europe/Berlin
BEGIN:VEVENT
UID:8374@staging.werkbox3.de
DTSTART;TZID=Europe/Berlin:20240813T180000
DTEND;TZID=Europe/Berlin:20240813T210000
DTSTAMP:20240808T100617Z
URL:https://staging.werkbox3.de/events/utter-keramik-kurs-6/
SUMMARY:"Utter" Keramik Kurs
DESCRIPTION:Handaufbauworkshop für EinsteigerInnen und Fortgeschrittene. G
 estalte deine eigene personalisierte Weihnachtsgeschenke für freunde & Fa
 milie\, aus Keramik. Die besten Geschenken sind immer die selbstgemachte\,
  persönlich und mit extra viel Liebe!
ATTACH;FMTTYPE=image/jpeg:https://staging.werkbox3.de/cms/uploads/2023/11/
 20230524_180856_Atelier-Werkbox3_Bearbeitet_sRGB-72dpi_web-scaled.jpg
CATEGORIES:Töpferei
LOCATION:WerkBox³ e.V.\, Dachauer Str. 110c\, München\, Bayern\, 80636\, 
 Deutschland
X-APPLE-STRUCTURED-LOCATION;VALUE=URI;X-ADDRESS=Dachauer Str. 110c\, Münch
 en\, Bayern\, 80636\, Deutschland;X-APPLE-RADIUS=100;X-TITLE=WerkBox³ e.V
 .:geo:0,0
END:VEVENT
BEGIN:VTIMEZONE
TZID:Europe/Berlin
X-LIC-LOCATION:Europe/Berlin
BEGIN:DAYLIGHT
DTSTART:20240331T030000
TZOFFSETFROM:+0100
TZOFFSETTO:+0200
TZNAME:CEST
END:DAYLIGHT
END:VTIMEZONE
END:VCALENDAR