BEGIN:VCALENDAR
VERSION:2.0
PRODID:-//wp-events-plugin.com//7.2.3.1//EN
TZID:Europe/Berlin
X-WR-TIMEZONE:Europe/Berlin
BEGIN:VEVENT
UID:8375@staging.werkbox3.de
DTSTART;TZID=Europe/Berlin:20240830T153000
DTEND;TZID=Europe/Berlin:20240830T183000
DTSTAMP:20240825T145258Z
URL:https://staging.werkbox3.de/events/schnupperkurs-goldschmieden-fuer-ki
 nder/
SUMMARY:Schnupperkurs Goldschmieden für Kinder
DESCRIPTION:Infos zum Schmuckkurs und freier Werkstatt findest du hier.\nAn
 fragen bitte an: goldschmied@werkbox3.de\nBei Buchung des Platzes bitte da
 s jeweilige Tickets buchen. .\n\nDie jeweilige Kursgebühr wird nach der j
 eweiligen Buchung berechnet.\n\nBuchungsende ist jeweils 18:00 am Vortag d
 es Kurses.\n\nEs sind insgesamt 3 Plätze verfügbar\, bitte bei der Buchu
 ng beachten.\n\nBei späterer Buchung bitte Anfrage über goldschmied@werk
 box3.de\n\n&nbsp\;
CATEGORIES:Kinderkurs Goldschmieden
LOCATION:WerkBox³ e.V.\, Dachauer Str. 110c\, München\, Bayern\, 80636\, 
 Deutschland
X-APPLE-STRUCTURED-LOCATION;VALUE=URI;X-ADDRESS=Dachauer Str. 110c\, Münch
 en\, Bayern\, 80636\, Deutschland;X-APPLE-RADIUS=100;X-TITLE=WerkBox³ e.V
 .:geo:0,0
END:VEVENT
BEGIN:VTIMEZONE
TZID:Europe/Berlin
X-LIC-LOCATION:Europe/Berlin
BEGIN:DAYLIGHT
DTSTART:20240331T030000
TZOFFSETFROM:+0100
TZOFFSETTO:+0200
TZNAME:CEST
END:DAYLIGHT
END:VTIMEZONE
END:VCALENDAR