BEGIN:VCALENDAR
VERSION:2.0
PRODID:-//wp-events-plugin.com//7.2.3.1//EN
TZID:Europe/Berlin
X-WR-TIMEZONE:Europe/Berlin
BEGIN:VEVENT
UID:8344@staging.werkbox3.de
DTSTART;TZID=Europe/Berlin:20241214T150000
DTEND;TZID=Europe/Berlin:20241214T160000
DTSTAMP:20241207T115437Z
URL:https://staging.werkbox3.de/events/einweisung-in-den-neuen-buchungspro
 zess-fuer-kursleiterinnen/
SUMMARY:Einweisung in den (neuen) Buchungsprozess für Kursleiter:innen
DESCRIPTION:Liebe WerkBox³-Gäste\, dieser Kurs ist nur für unsere intern
 en Kursleiter:innen vorgesehen. Andere Anmeldungen erhalten daher logische
 rweise eine Absage. Wir bitten\, das nicht übel zu nehmen.\n&nbsp\;\n\nLi
 ebe WerkBox³-Kursleiter:innen (und solche\, die es werden wollen)\,\n\nun
 ser neues Kurskonzept sieht auch vor\, dass Buchungen für die Teilnahme a
 n Kursen nur noch über die Website werkbox3.de erfolgt. Sofern eine Teiln
 ahmegebühr vorgesehen ist\, erfolgt die Bezahlung gleich bei Anmeldung ü
 ber Paypal.\n\nFür offene Veranstaltungen\, an denen man ohne Anmeldung u
 nd erst recht ohne Teilnehmergebühr teilnehmen kann\, ist nichts weiter z
 u beachten.¹ Für die Kursleiter:innen aller übrigen Kurse (also kostenl
 ose Kurse mit Anmeldung und Kurse mit Teilnahmegebühr und deshalb auch mi
 t Anmeldung) empfiehlt es sich\, vor Einstellung des Kursangebots an diese
 r Einweisung teilzunehmen\, damit keine falschen Zahlungsprozesse ausgelö
 st werden\, die dann mühsam korrigiert werden müssten.\n\nMitzubringen:\
 n- Dein Passwort für den Wordpress-Zugang von werkbox3.de\n- ein bisschen
  Aufmerksamkeit\n- ein kleiner Happen Unvoreingenommenheit (gesunder Mensc
 henverstand tut's auch)\n- ein Stift\, falls Du Dir in der kleinen Schulun
 gsunterlage noch zusätzliche Notizen machen willst\n\nEs ist nicht schwie
 rig\, aber komplett selbsterklärend ist es vermutlich nur für wenige - f
 ür mich war es das nicht\, ich kann es aber jetzt erklären 😉. Und Ihr
  solltet es idealerweise schon zu Beginn besser verstehen als Kursteilnehm
 er:innen und/oder Interessent:innen - damit Ihr etwaige (Nach-)Fragen gut 
 beantworten könnt. (Für Rückfragen stehe ich aber natürlich gerne zur 
 Verfügung.)\n\nDer Kurs wird immer mal wieder angeboten werden\, kann abe
 r bei entsprechender Nachfrage gerne auch an zusätzlichen Terminen stattf
 inden (was gerade am Anfang vermutlich notwendig sein wird).\n\n&nbsp\;\n\
 n¹ Für Euch (Kursleiter:innen von Veranstaltungen\, die weder Anmeldung 
 noch Teilnahmegebühr erfordern\, aber auf der Website z.B. im Kalender an
 geboten werden) kann eine Teilnahme trotzdem interessant sein\, weil es au
 ch eine kurze Einweisung in die Terminierungsoptionen der Website gibt\, m
 it denen sichergestellt werden kann\, dass die Veranstaltung im Kalender k
 orrekt angezeigt wird.
LOCATION:WerkBox³ - Kursraum\, Dachauer Str. 110c\, München\, 80636\, Deu
 tschland
X-APPLE-STRUCTURED-LOCATION;VALUE=URI;X-ADDRESS=Dachauer Str. 110c\, Münch
 en\, 80636\, Deutschland;X-APPLE-RADIUS=100;X-TITLE=WerkBox³ - Kursraum:g
 eo:0,0
END:VEVENT
BEGIN:VTIMEZONE
TZID:Europe/Berlin
X-LIC-LOCATION:Europe/Berlin
BEGIN:STANDARD
DTSTART:20241027T020000
TZOFFSETFROM:+0200
TZOFFSETTO:+0100
TZNAME:CET
END:STANDARD
END:VTIMEZONE
END:VCALENDAR