BEGIN:VCALENDAR
VERSION:2.0
PRODID:-//wp-events-plugin.com//7.2.3.1//EN
TZID:Europe/Berlin
X-WR-TIMEZONE:Europe/Berlin
BEGIN:VEVENT
UID:8372@staging.werkbox3.de
DTSTART;TZID=Europe/Berlin;VALUE=DATE:20240712
DTEND;TZID=Europe/Berlin;VALUE=DATE:20240713
DTSTAMP:20240721T090142Z
URL:https://staging.werkbox3.de/events/aufbau-kreativlabor-open/
SUMMARY:Aufbau: Kreativlabor OPEN
DESCRIPTION:https://staging.werkbox3.de/category/ueber-uns/
CATEGORIES:Festival
LOCATION:WerkBox³ e.V.\, Dachauer Str. 110c\, München\, Bayern\, 80636\, 
 Deutschland
X-APPLE-STRUCTURED-LOCATION;VALUE=URI;X-ADDRESS=Dachauer Str. 110c\, Münch
 en\, Bayern\, 80636\, Deutschland;X-APPLE-RADIUS=100;X-TITLE=WerkBox³ e.V
 .:geo:0,0
END:VEVENT
BEGIN:VTIMEZONE
TZID:Europe/Berlin
X-LIC-LOCATION:Europe/Berlin
BEGIN:DAYLIGHT
DTSTART:20240331T030000
TZOFFSETFROM:+0100
TZOFFSETTO:+0200
TZNAME:CEST
END:DAYLIGHT
END:VTIMEZONE
END:VCALENDAR